BEGIN:VCALENDAR
VERSION:2.0
PRODID:-//Tukios.com/
BEGIN:VEVENT
UID:df399544-21af-455b-a3bb-94853ce45f24@www.stoverfuneralhome.com
DTSTAMP:20260423T013759Z
DTSTART:20260516T170000Z
DTEND:20260516T180000Z
SUMMARY:Funeral Service
DESCRIPTION:
URL:https://www.stoverfuneralhome.com/obituaries/ray-zook
LOCATION:Restoration Fellowship Church 2128 John Marshall Hwy,  Strasburg 
	VA 22657
GEO:39.0186845;-78.3590669
END:VEVENT
END:VCALENDAR