BEGIN:VCALENDAR
VERSION:2.0
PRODID:-//Tukios.com/
BEGIN:VEVENT
UID:92c4c997-de4c-4516-b1f5-a5de439b0126@www.stoverfuneralhome.com
DTSTAMP:20260423T013642Z
DTSTART:20260516T160000Z
DTEND:20260516T170000Z
SUMMARY:Visitation
DESCRIPTION:
URL:https://www.stoverfuneralhome.com/obituaries/ray-zook
LOCATION: 2128 John Marshall Highway  Strasburg VA 22657
GEO:39.0186595;-78.3591897
END:VEVENT
END:VCALENDAR