BEGIN:VCALENDAR
VERSION:2.0
PRODID:-//Tukios.com/
BEGIN:VEVENT
UID:4f8f9488-bd5a-4879-8519-ac61496a5392@www.stoverfuneralhome.com
DTSTAMP:20260424T223850Z
DTSTART:20260523T160000Z
DTEND:20260523T170000Z
SUMMARY:Visitation
DESCRIPTION:
URL:https://www.stoverfuneralhome.com/obituaries/michael-keller
LOCATION: 177 N Holliday St  Strasburg VA 22657
GEO:38.9901975;-78.3617866
END:VEVENT
END:VCALENDAR