BEGIN:VCALENDAR
VERSION:2.0
PRODID:-//Tukios.com/
BEGIN:VEVENT
UID:795d0398-cfd5-4def-892e-db1485239390@www.stoverfuneralhome.com
DTSTAMP:20260426T004703Z
DTSTART:20260429T220000Z
DTEND:20260430T000000Z
SUMMARY:Visitation
DESCRIPTION:
URL:https://www.stoverfuneralhome.com/obituaries/irving-hottle-major-usaf-ret
LOCATION: 177 N Holliday St  Strasburg VA 22657
GEO:38.9901975;-78.3617866
END:VEVENT
END:VCALENDAR