BEGIN:VCALENDAR
VERSION:2.0
PRODID:-//Tukios.com/
BEGIN:VEVENT
UID:55eebf0c-37f2-4836-8a2c-53d57971a80b@www.stoverfuneralhome.com
DTSTAMP:20260426T004738Z
DTSTART:20260430T150000Z
DTEND:20260430T160000Z
SUMMARY:Funeral Service
DESCRIPTION:
URL:https://www.stoverfuneralhome.com/obituaries/irving-hottle-major-usaf-ret
LOCATION:Mt. Zion Lutheran Church 1600  Ridge Road  New Market VA 22844
GEO:38.681709;-78.7230168
END:VEVENT
END:VCALENDAR