BEGIN:VCALENDAR
VERSION:2.0
PRODID:-//Tukios.com/
BEGIN:VEVENT
UID:2b585679-00b0-4be1-96c8-b9505549f13d@www.stoverfuneralhome.com
DTSTAMP:20260424T223511Z
DTSTART:20260428T180000Z
DTEND:20260428T190000Z
SUMMARY:Visitation
DESCRIPTION:
URL:https://www.stoverfuneralhome.com/obituaries/david-wolf
LOCATION:Restoration Fellowship Church 2128 John Marshall Hwy  Strasburg 
	VA 22657
GEO:39.0186845;-78.3590669
END:VEVENT
END:VCALENDAR