BEGIN:VCALENDAR
VERSION:2.0
PRODID:-//Tukios.com/
BEGIN:VEVENT
UID:568727f3-957c-4fa9-ae47-b3fabfc3bda9@www.stoverfuneralhome.com
DTSTAMP:20260424T223641Z
DTSTART:20260428T190000Z
DTEND:20260428T200000Z
SUMMARY:Celebration of Life
DESCRIPTION:
URL:https://www.stoverfuneralhome.com/obituaries/david-wolf
LOCATION: 2128 John Marshall Hwy  Strasburg VA 22657
GEO:39.0186845;-78.3590669
END:VEVENT
END:VCALENDAR